BEGIN:VCALENDAR
VERSION:2.0
PRODID:-//Southern Pride Gourmet Foods - ECPv5.9.1//NONSGML v1.0//EN
CALSCALE:GREGORIAN
METHOD:PUBLISH
X-WR-CALNAME:Southern Pride Gourmet Foods
X-ORIGINAL-URL:https://southernpridegourmetfoods.com
X-WR-CALDESC:Events for Southern Pride Gourmet Foods
BEGIN:VTIMEZONE
TZID:UTC
BEGIN:STANDARD
TZOFFSETFROM:+0000
TZOFFSETTO:+0000
TZNAME:UTC
DTSTART:20260101T000000
END:STANDARD
END:VTIMEZONE
BEGIN:VEVENT
DTSTART;TZID=UTC:20261003T100000
DTEND;TZID=UTC:20261004T160000
DTSTAMP:20260422T165911
CREATED:20260422T130642Z
LAST-MODIFIED:20260422T130643Z
UID:45541-1791021600-1791129600@southernpridegourmetfoods.com
SUMMARY:Melbourne Arts & Craft Expo Wickman Park
DESCRIPTION:Southern Pride Gourmet Foods will there selling their Awarding Winning Products
URL:https://southernpridegourmetfoods.com/event/melbourne-arts-craft-expo-wickman-park/
END:VEVENT
END:VCALENDAR