BEGIN:VCALENDAR
VERSION:2.0
PRODID:-//Southern Pride Gourmet Foods - ECPv5.9.1//NONSGML v1.0//EN
CALSCALE:GREGORIAN
METHOD:PUBLISH
X-WR-CALNAME:Southern Pride Gourmet Foods
X-ORIGINAL-URL:https://southernpridegourmetfoods.com
X-WR-CALDESC:Events for Southern Pride Gourmet Foods
BEGIN:VTIMEZONE
TZID:UTC
BEGIN:STANDARD
TZOFFSETFROM:+0000
TZOFFSETTO:+0000
TZNAME:UTC
DTSTART:20220101T000000
END:STANDARD
END:VTIMEZONE
BEGIN:VEVENT
DTSTART;TZID=UTC:20220514T100000
DTEND;TZID=UTC:20220515T160000
DTSTAMP:20260420T005252
CREATED:20220514T100028Z
LAST-MODIFIED:20220504T150800Z
UID:1321-1652522400-1652630400@southernpridegourmetfoods.com
SUMMARY:Coco Village Art and Craft Show
DESCRIPTION:Local in Coco Village in Coco\,
URL:https://southernpridegourmetfoods.com/event/coco-village-art-and-craft-showhttp-www-visitcocoavillage-com-event-map/
END:VEVENT
END:VCALENDAR