BEGIN:VCALENDAR
VERSION:2.0
PRODID:-//Southern Pride Gourmet Foods - ECPv5.9.1//NONSGML v1.0//EN
CALSCALE:GREGORIAN
METHOD:PUBLISH
X-WR-CALNAME:Southern Pride Gourmet Foods
X-ORIGINAL-URL:https://southernpridegourmetfoods.com
X-WR-CALDESC:Events for Southern Pride Gourmet Foods
BEGIN:VTIMEZONE
TZID:UTC
BEGIN:STANDARD
TZOFFSETFROM:+0000
TZOFFSETTO:+0000
TZNAME:UTC
DTSTART:20220101T000000
END:STANDARD
END:VTIMEZONE
BEGIN:VEVENT
DTSTART;TZID=UTC:20220917T100000
DTEND;TZID=UTC:20220918T160000
DTSTAMP:20260419T184632
CREATED:20220415T162942Z
LAST-MODIFIED:20220901T135650Z
UID:1332-1663408800-1663516800@southernpridegourmetfoods.com
SUMMARY:Pirate Festival Vero Beach
DESCRIPTION:Under the Oaks Memorial Park Vero Beach \n\n\n\nThis event has been cancelled.
URL:https://southernpridegourmetfoods.com/event/pirate-festival-vero-beach/
END:VEVENT
END:VCALENDAR