BEGIN:VCALENDAR
VERSION:2.0
PRODID:-//Southern Pride Gourmet Foods - ECPv5.9.1//NONSGML v1.0//EN
CALSCALE:GREGORIAN
METHOD:PUBLISH
X-WR-CALNAME:Southern Pride Gourmet Foods
X-ORIGINAL-URL:https://southernpridegourmetfoods.com
X-WR-CALDESC:Events for Southern Pride Gourmet Foods
BEGIN:VTIMEZONE
TZID:UTC
BEGIN:STANDARD
TZOFFSETFROM:+0000
TZOFFSETTO:+0000
TZNAME:UTC
DTSTART:20210101T000000
END:STANDARD
END:VTIMEZONE
BEGIN:VEVENT
DTSTART;TZID=UTC:20210227T110000
DTEND;TZID=UTC:20210228T170000
DTSTAMP:20260420T072719
CREATED:20210220T170302Z
LAST-MODIFIED:20210220T182000Z
UID:1125-1614423600-1614531600@southernpridegourmetfoods.com
SUMMARY:Treasure Coast Garlic Festival
DESCRIPTION:
URL:https://southernpridegourmetfoods.com/event/treasure-coast-garlic-festival/
END:VEVENT
END:VCALENDAR