BEGIN:VCALENDAR
VERSION:2.0
PRODID:-//Southern Pride Gourmet Foods - ECPv5.9.1//NONSGML v1.0//EN
CALSCALE:GREGORIAN
METHOD:PUBLISH
X-WR-CALNAME:Southern Pride Gourmet Foods
X-ORIGINAL-URL:https://southernpridegourmetfoods.com
X-WR-CALDESC:Events for Southern Pride Gourmet Foods
BEGIN:VTIMEZONE
TZID:UTC
BEGIN:STANDARD
TZOFFSETFROM:+0000
TZOFFSETTO:+0000
TZNAME:UTC
DTSTART:20220101T000000
END:STANDARD
END:VTIMEZONE
BEGIN:VEVENT
DTSTART;TZID=UTC:20220212T110000
DTEND;TZID=UTC:20220213T180000
DTSTAMP:20260420T035416
CREATED:20211120T170728Z
LAST-MODIFIED:20211120T170729Z
UID:1272-1644663600-1644775200@southernpridegourmetfoods.com
SUMMARY:Vero Beach Blues & BBQ Festival
DESCRIPTION:Indian River Fairgrounds Vero Beach
URL:https://southernpridegourmetfoods.com/event/vero-beach-blues-bbq-festival/
END:VEVENT
END:VCALENDAR