BEGIN:VCALENDAR
VERSION:2.0
PRODID:-//Southern Pride Gourmet Foods - ECPv5.9.1//NONSGML v1.0//EN
CALSCALE:GREGORIAN
METHOD:PUBLISH
X-WR-CALNAME:Southern Pride Gourmet Foods
X-ORIGINAL-URL:https://southernpridegourmetfoods.com
X-WR-CALDESC:Events for Southern Pride Gourmet Foods
BEGIN:VTIMEZONE
TZID:UTC
BEGIN:STANDARD
TZOFFSETFROM:+0000
TZOFFSETTO:+0000
TZNAME:UTC
DTSTART:20220101T000000
END:STANDARD
END:VTIMEZONE
BEGIN:VEVENT
DTSTART;TZID=UTC:20220402T100000
DTEND;TZID=UTC:20220403T160000
DTSTAMP:20260420T005251
CREATED:20211214T141514Z
LAST-MODIFIED:20211214T141514Z
UID:1286-1648893600-1649001600@southernpridegourmetfoods.com
SUMMARY:Vero Beach Spring Art & Craft Expo
DESCRIPTION:Southern Pride Gourmet Foods with their awarding winning gourmet products.
URL:https://southernpridegourmetfoods.com/event/vero-beach-spring-art-craft-expo/
END:VEVENT
BEGIN:VEVENT
DTSTART;TZID=UTC:20220423T100000
DTEND;TZID=UTC:20220424T160000
DTSTAMP:20260420T005251
CREATED:20220316T193158Z
LAST-MODIFIED:20220316T193159Z
UID:1314-1650708000-1650816000@southernpridegourmetfoods.com
SUMMARY:Oyster Festival Fort Festival
DESCRIPTION:Memorial Park Ft Pierce\, Fl
URL:https://southernpridegourmetfoods.com/event/oyster-festival-fort-festival/
END:VEVENT
BEGIN:VEVENT
DTSTART;TZID=UTC:20220430T090000
DTEND;TZID=UTC:20220501T160000
DTSTAMP:20260420T005251
CREATED:20220316T193459Z
LAST-MODIFIED:20220316T193500Z
UID:1318-1651309200-1651420800@southernpridegourmetfoods.com
SUMMARY:Vero Seafood Festival
DESCRIPTION:The event is at Indian River Fairgrounds
URL:https://southernpridegourmetfoods.com/event/vero-seafood-festival/
END:VEVENT
END:VCALENDAR