BEGIN:VCALENDAR
VERSION:2.0
PRODID:-//Southern Pride Gourmet Foods - ECPv5.9.1//NONSGML v1.0//EN
CALSCALE:GREGORIAN
METHOD:PUBLISH
X-WR-CALNAME:Southern Pride Gourmet Foods
X-ORIGINAL-URL:https://southernpridegourmetfoods.com
X-WR-CALDESC:Events for Southern Pride Gourmet Foods
BEGIN:VTIMEZONE
TZID:UTC
BEGIN:STANDARD
TZOFFSETFROM:+0000
TZOFFSETTO:+0000
TZNAME:UTC
DTSTART:20220101T000000
END:STANDARD
END:VTIMEZONE
BEGIN:VEVENT
DTSTART;TZID=UTC:20221104T160000
DTEND;TZID=UTC:20221106T160000
DTSTAMP:20260419T141639
CREATED:20220420T192412Z
LAST-MODIFIED:20221102T115744Z
UID:1342-1667577600-1667750400@southernpridegourmetfoods.com
SUMMARY:Treasure Coast Seafood and Music Festival
DESCRIPTION:Southern Pride Gourmet Foods will be displaying all of their products at Cove Marina on Seaway Dr in Ft Pierce\, Florida
URL:https://southernpridegourmetfoods.com/event/treasure-coast-seafood-and-music-festival/
END:VEVENT
BEGIN:VEVENT
DTSTART;TZID=UTC:20221112T080000
DTEND;TZID=UTC:20221113T170000
DTSTAMP:20260419T141639
CREATED:20221112T100522Z
LAST-MODIFIED:20220420T193114Z
UID:1344-1668240000-1668358800@southernpridegourmetfoods.com
SUMMARY:Holiday Arts & Craft Expo Vero Beach
DESCRIPTION:Southern Pride Gourmet Foods displaying all of their awarding winning products at Indian River Fairgrounds
URL:https://southernpridegourmetfoods.com/event/holiday-arts-craft-expo-vero-beach/
END:VEVENT
BEGIN:VEVENT
DTSTART;TZID=UTC:20221112T100000
DTEND;TZID=UTC:20221113T160000
DTSTAMP:20260419T141639
CREATED:20221116T192846Z
LAST-MODIFIED:20221116T192847Z
UID:1460-1668247200-1668355200@southernpridegourmetfoods.com
SUMMARY:Holiday Show Arts & Crafts
DESCRIPTION:Palm Beach Fairgounds
URL:https://southernpridegourmetfoods.com/event/holiday-show-arts-crafts/
END:VEVENT
BEGIN:VEVENT
DTSTART;TZID=UTC:20221119T100000
DTEND;TZID=UTC:20221120T160000
DTSTAMP:20260419T141639
CREATED:20221116T193453Z
LAST-MODIFIED:20221116T193541Z
UID:1463-1668852000-1668960000@southernpridegourmetfoods.com
SUMMARY:Holiday Day Arts & Craft Show
DESCRIPTION:Holiday Arts & Craft Show Palm Beach Fairgrounds
URL:https://southernpridegourmetfoods.com/event/1463/
END:VEVENT
BEGIN:VEVENT
DTSTART;TZID=UTC:20221130T173000
DTEND;TZID=UTC:20221130T193000
DTSTAMP:20260419T141639
CREATED:20220917T165904Z
LAST-MODIFIED:20221102T115801Z
UID:1439-1669829400-1669836600@southernpridegourmetfoods.com
SUMMARY:Soroptimist Sip and Shop
DESCRIPTION:Great Xmas Gift from Southern Pride Gourmet Foods
URL:https://southernpridegourmetfoods.com/event/soroptimist-sip-and-shop/
END:VEVENT
END:VCALENDAR